BEGIN:VCALENDAR
VERSION:2.0
PRODID:-//IWIRC - ECPv6.15.20//NONSGML v1.0//EN
CALSCALE:GREGORIAN
METHOD:PUBLISH
X-WR-CALNAME:IWIRC
X-ORIGINAL-URL:https://iwirc.com
X-WR-CALDESC:Events for IWIRC
REFRESH-INTERVAL;VALUE=DURATION:PT1H
X-Robots-Tag:noindex
X-PUBLISHED-TTL:PT1H
BEGIN:VTIMEZONE
TZID:America/Chicago
BEGIN:DAYLIGHT
TZOFFSETFROM:-0600
TZOFFSETTO:-0500
TZNAME:CDT
DTSTART:20250309T080000
END:DAYLIGHT
BEGIN:STANDARD
TZOFFSETFROM:-0500
TZOFFSETTO:-0600
TZNAME:CST
DTSTART:20251102T070000
END:STANDARD
BEGIN:DAYLIGHT
TZOFFSETFROM:-0600
TZOFFSETTO:-0500
TZNAME:CDT
DTSTART:20260308T080000
END:DAYLIGHT
BEGIN:STANDARD
TZOFFSETFROM:-0500
TZOFFSETTO:-0600
TZNAME:CST
DTSTART:20261101T070000
END:STANDARD
BEGIN:DAYLIGHT
TZOFFSETFROM:-0600
TZOFFSETTO:-0500
TZNAME:CDT
DTSTART:20270314T080000
END:DAYLIGHT
BEGIN:STANDARD
TZOFFSETFROM:-0500
TZOFFSETTO:-0600
TZNAME:CST
DTSTART:20271107T070000
END:STANDARD
END:VTIMEZONE
BEGIN:VEVENT
DTSTART;TZID=America/Chicago:20260417T100000
DTEND;TZID=America/Chicago:20260418T120000
DTSTAMP:20260420T163238
CREATED:20260330T174801Z
LAST-MODIFIED:20260330T180623Z
UID:35780-1776420000-1776513600@iwirc.com
SUMMARY:IWIRC on the Bayou 2026
DESCRIPTION:Get ready for IWIRC on the Bayou 2026 – a fun-filled gathering celebrating women in insolvency and restructuring in the heart of the bayou! \nIWIRC on the Bayou 2026 \nCome join us for a fabulous event at The Ritz-Carlton\, New Orleans! IWIRC on the Bayou 2026 is the place to be for networking\, learning\, and having a great time with fellow industry professionals. Get ready for insightful panels\, engaging workshops\, and of course\, some unforgettable social events. Don’t miss out on this opportunity to connect with like-minded individuals and expand your professional network. See you there! \nAttendance fee will include 1.5 hours of CLE credit and light breakfast at Kean Miller LLP followed by lunch at The Ritz Carlton Spa on Friday\, dinner Friday night\, and brunch on Saturday morning.
URL:https://iwirc.com/event/iwirc-on-the-bayou-2026/
CATEGORIES:Louisiana
END:VEVENT
END:VCALENDAR